BEGIN:VCALENDAR
VERSION:2.0
PRODID:-//ChamberMaster//Event Calendar 2.0//EN
METHOD:PUBLISH
X-PUBLISHED-TTL:P3D
REFRESH-INTERVAL:P3D
CALSCALE:GREGORIAN
BEGIN:VEVENT
DTSTART:20260529T170000Z
DTEND:20260529T180000Z
X-MICROSOFT-CDO-ALLDAYEVENT:FALSE
SUMMARY:Membership Lunch
DESCRIPTION:Monthly Chamber Membership Lunch\n\nSponsor: Bank of Hays\n\nSpeakers: Leadership Hays Class & Facilitators\n\nProgram:  2026 Leadership Hays Graduation
X-ALT-DESC;FMTTYPE=text/html:<span style="background-image: initial\; background-position: initial\; background-size: initial\; background-repeat: initial\; background-attachment: initial\; background-origin: initial\; background-clip: initial\;"><span style="font-family: arial\, sans-serif\;"><span style="font-size: 10pt\;">Monthly Chamber Membership Lunch</span></span></span><br />\n<span style="font-family: arial\, sans-serif\;"><span style="font-size: 10pt\;"><span style="background-image: initial\; background-position: initial\; background-size: initial\; background-repeat: initial\; background-attachment: initial\; background-origin: initial\; background-clip: initial\;"><u><strong>Sponsor</strong></u>: Bank of Hays<br />\n<span style="background-image: initial\; background-position: initial\; background-size: initial\; background-repeat: initial\; background-attachment: initial\; background-origin: initial\; background-clip: initial\;"><u><strong>Speakers</strong></u>: Leadership Hays Class &amp\; Facilitators<br />\n<u><strong>Program</strong></u>:&nbsp\; 2026 Leadership Hays Graduation</span></span></span></span>
LOCATION:Hilton Garden Inn 221 W 43rd St. Hays\, KS\, 67601
UID:e.1271.12676
SEQUENCE:3
DTSTAMP:20260425T171104Z
URL:http://discoverhays.chambermaster.com/events/details/membership-lunch-12676
END:VEVENT

END:VCALENDAR
